BEGIN:VCALENDAR
VERSION:2.0
PRODID:-//AVA - ECPv6.15.20//NONSGML v1.0//EN
CALSCALE:GREGORIAN
METHOD:PUBLISH
X-ORIGINAL-URL:https://associazionevegananimalista.it
X-WR-CALDESC:Eventi per AVA
REFRESH-INTERVAL;VALUE=DURATION:PT1H
X-Robots-Tag:noindex
X-PUBLISHED-TTL:PT1H
BEGIN:VTIMEZONE
TZID:Europe/Rome
BEGIN:DAYLIGHT
TZOFFSETFROM:+0100
TZOFFSETTO:+0200
TZNAME:CEST
DTSTART:20180325T010000
END:DAYLIGHT
BEGIN:STANDARD
TZOFFSETFROM:+0200
TZOFFSETTO:+0100
TZNAME:CET
DTSTART:20181028T010000
END:STANDARD
BEGIN:DAYLIGHT
TZOFFSETFROM:+0100
TZOFFSETTO:+0200
TZNAME:CEST
DTSTART:20190331T010000
END:DAYLIGHT
BEGIN:STANDARD
TZOFFSETFROM:+0200
TZOFFSETTO:+0100
TZNAME:CET
DTSTART:20191027T010000
END:STANDARD
BEGIN:DAYLIGHT
TZOFFSETFROM:+0100
TZOFFSETTO:+0200
TZNAME:CEST
DTSTART:20200329T010000
END:DAYLIGHT
BEGIN:STANDARD
TZOFFSETFROM:+0200
TZOFFSETTO:+0100
TZNAME:CET
DTSTART:20201025T010000
END:STANDARD
END:VTIMEZONE
BEGIN:VEVENT
DTSTART;TZID=Europe/Rome:20190402T173000
DTEND;TZID=Europe/Rome:20190402T210000
DTSTAMP:20260425T184039
CREATED:20190327T145712Z
LAST-MODIFIED:20190329T091934Z
UID:2885-1554226200-1554238800@associazionevegananimalista.it
SUMMARY:Vegan perchè: mille domande mille risposte di Franco Libero Manco
DESCRIPTION:“Non è vero che l’uomo consumistico non ama gli animali. Invece li ama molto\, specialmente se ben cucinati.\nL’uomo moderno soffre della peggiore di tutte le malattie cardiache\, l’incapacità di amare col cuore.\nMolti pensano che amare col cuore\, e amare anche gli animali\, sia pura emotività e sentimentalismo. Si tratta invece di sanità morale e di razionalità più profonda di quella egoistica. [….]”\n(Giovanni Martinetti – “Il dolore è uguale per tutti”) \n  \nLeggi condividi e diffondi: PROGETTO PACE NEL MONDO – EDUCARE L’UMANITA’ ALLA PACE di Franco Libero Manco \nVisita il nostro sito Associazione Vegan Animalista \nMetti “Mi piace” sulla pagina Facebook del presidente Franco Libero Manco \nMetti “Mi piace” sulla nostra pagina Facebook AVA Associazione Vegan Animalista \nVieni a trovarci presso la nostra sede di Roma in Piazza Asti\, 5/A siamo aperti tutti i giorni dalle ore dodici alle diciotto \nIscriviti alla nostra Newsletter \nVisiona iscriviti e condividi le nostre videoconferenze dal nostro canale Youtube \n Iscriviti ai nostri gruppi su Facebook: \nAVA Associazione Vegan Animalista \nSupporta Agripunk e tutti i Rifugi di Animali Liberi \nPartecipa\, metti “Mi Piace” e condividi l’evento su Facebook Vegan perchè: mille domande mille risposte \n  \nVegan perchè: mille domande mille risposte\ndi Franco Libero Manco \nMartedì 2 aprile 2019 dalle ore 17\,30\, in via del Teatro Pace 32 Roma (piazza Navona)\, conferenza del Dr. Franco Libero Manco\, Presidente AVA\, sul tema \n“VEGAN PERCHE’: \nMILLE DOMANDE\, \nMILLE RISPOSTE” \nDurante la conversazione saranno trattati i molti aspetti e gli interrogativi che caratterizzano la scelta vegan al fine di dimostrare i benefici che ne derivano\, soffermandoci sulle domande che verranno da parte dei partecipanti. \nSi risponderà alle domande del pubblico.\nIngresso libero e gratuito.\nPer info tel. 3393586193 – 333 9633050\nUN ALIMENTO E’ ADATTO ALL’ALIMENTAZIONE UMANA SE… \nE’ COMPATIBILE CON IL NOSTRO ORGANISMO  \nE RISPONDE ALLE SEGUENTI CARATTERISTICHE: \n1: essere esteticamente attraente\, appetibile\, desiderabile \n2: avere un buon profumo  \n3: essere commestibile da crudo\, gradevole e gustoso  \n4: essere facilmente digeribile e assimilabile  \n5: avere il giusto ed equilibrato quantitativo di nutrienti \n6: essere compatibile con la morfologia umana \n7: non contenere residui chimici né adulterazioni \n8: non deve generare patologie \n9: non essere facilmente deperibile \n10 : non causare danni all’ecosistema \n11 :essere economicamente conveniente\n12: essere eticamente compatibile  \n13. essere un alimento necessario e apportare benefici al nostro organismo \n——————————— \n1: essere esteticamente attraente\, appetibile\, desiderabile:\nun pezzo di carne cruda\, un pesce\, un mollusco\, un volatile\, il corpo di un animale morto\, è tutt’altro che desiderabile: attrae solo gli animali predatori\, gli sciacalli\, gli avvoltoi\, i serpenti\, non l’uomo. \n2: avere un buon profumo:\nse non è camuffata con la cottura e con le spezie la carne dell’animale morto emana il tipico ripugnante fetore dei cadaveri. \nL’odore della carne e del pesce è nauseabondo e la puzza serve a tenerci lontani da quell’alimento. \n3: essere commestibile da crudo\, gradevole e gustoso:\nla carne cruda è durissima per la dentatura umana e non è gradevole al gusto. \nSono necessari dai 5 ai 20 giorni di frollatura per ammorbidirla. \nCarne e pesce per motivi di igiene e masticazione devono essere cotti e la cottura altera e distrugge quasi del tutto le proprietà nutrizionali. \n4: essere facilmente digeribile e assimilabile:\nla carne impiega dalle 50 alle 70 ore dal momento dell’assunzione all’espulsione e soprattutto è di difficile assimilazione perché i legami delle cellule resistono agli enzimi digestivi. \n5: avere il giusto ed equilibrato quantitativo di nutrienti:\nla carne è priva di carboidrati\, di fibre\, povera di vitamine (specialmente quelle termolabili) e di enzimi in gran parte distrutti con la cottura. \nAnche i minerali sono resi inorganici con la cottura e quindi di difficile utilizzo dall’organismo; inoltre la cottura altera anche le proteine che flocculano\, i grassi si ossidano. \nLa cottura del pesce rende quasi inservibili gli omega 3. \n6: essere compatibile con la morfologia umana:\nse l’essere umano fosse strutturato anatomicamente a mangiare anche la carne avrebbe denti adatti a lacerarla direttamente dall’intero animale\, saliva\, stomaco\, intestino ed enzimi appropriati a neutralizzare l’acido urico. \nL’essere umano manca di artigli\, di zanne\, non ha velocità necessaria a rincorrere la preda e soprattutto ha repulsione alla vista del sangue e dei cadaveri. \n7: non contenere residui chimici né adulterazioni:\ncarne e pesce contengono residui chimici dei mangimi e di medicinali somministrati agli animali d’allevamento. \nInoltre gran parte della carne deriva da animali ammalati. \n8: non deve generare patologie:\nla statistiche dicono che maggiore è il quantitativo di proteine animali consumate è maggiore è la possibilità di contrarre patologie come uricemia\, ipertensione\, reumatismo\, gotta\, cancro\, diabete\, malattie cardiovascolari… \nInoltre è ricca di grassi saturi e colesterolo\, genera radicali liberi\, leucocitosi digestiva\, acidifica il pH del sangue\, sottrae calcio all’organismo. \n9: non essere facilmente deperibile:\ncome tutti gli organismi animali morti la carne\, specialmente il pesce\, va in rapida putrefazione sviluppando putrescina\, cadaverina istamina\, ammoniaca\, indolo\, scatolo… \n10: non causare danni all’ecosistema:\ngli spazi per adibirli a pascolo e la coltivazione dei mangimi per animali d’allevamento sono la prima causa di deforestazione. \nAssorbono il 70% delle terre coltivabili\, producono il 21% di gas serra\, il 37% di metano\, il 65% di perossido di azoto. \nGli allevamenti intensivi solo in Italia inquinano quanto 140 milioni di esseri umani e un solo impianto ittico quanto 60.000 persone. \n11:essere economicamente conveniente:\ncon il costo medio di un kg di carne (20 euro circa) si possono acquistare derrate alimentari per il nutrimento di 3 giorni di una persona. \nIl 75% della spesa sanitaria in Europa e in Italia viene assorbita dalle cure per neutralizzare gli effetti della cattiva alimentazione. \nLa spesa farmaceutica annua è di 2\,5 miliardi di euro solo per farmaci antitumorali. Senza le sovvenzioni statali il costo della carne sarebbe proibitivo per la maggioranza delle persone. \n12: essere eticamente compatibile:\nla carne è il risultato della sofferenza e dell’uccisione di miliardi animali allevati in modo brutale è uccisi nel più totale disprezzo della loro vita e della loro sofferenza; è un prodotto che avvalora la legge del più forte e che rende insensibili all’altrui sofferenza. \nDegrada moralmente\, preclude l’evoluzione dello spirito\, rende più aggressivi\, abbassa le frequenze energetiche dei chakra… \n13. essere un alimento necessario e apportare benefici al nostro organismo:\nla buona salute dei vegani dimostra che la carne non è necessaria alla nostra salute; non apporta benefici ma causa le peggiori moderne patologie: diabete\, ipertensione\, uricemia\, cancro\, ictus\, infarto… \n\nLA CARNE DI QUALUNQUE ANIMALE E’ TUTT’ALTRO CHE COMPATIBILE CON LA NATURA UMANA\nNON SOLO NON E’ NECESSARIA MA È PORTATRICE DI DANNI \nAL NOSTRO ORGANISMO\, ALLA NOSTRA COSCIENZA\, AGLI ANIMALI\, ALL’AMBIENTE\, AL TERZO MONDO\, ALL’ECONOMIA \n(Franco Libero Manco) \n  \n \n“Sappiate volere con dolcezza\, senza scosse e sobbalzi; abbiate un’immaginazione viva\, ardente e portatevi fuori di voi stessi per recare aiuto agli altri.\n\nTutto nasce dal Pensiero.\n\nSe è puro condurrà all’Amore verso ogni Vita” (Anonimo)\n\n#maketheconnection #antispecismo\n\nOgni Essere Senziente è espressione del Cosmo\, è una stella che attraversa questa dimensione. \n\nE’ immagine ed incarnazione del Sole e della Luce più sublime. \n\nNon solo l’Uomo è rappresentazione del divino. \n\nLo è ogni Vita.\n\n\nChi uccide o tortura commette un atto per cui non v’è salvezza.\n\n\nRispetto e Armonia sono declinazioni del verbo amare.\n\n\nChi sopprime una Vita\, uccide un’Anima.\n\n\nChiunque compia un simile gesto\, contribuisce alla condanna dell’uomo.\n\n\nOgni azione comporta sempre una conseguenza.\n\n\nSenza Amore\, la scelleratezza domina la mente e il cuore della nostra specie.\n\n\nL’Amore chiama amore.\n\n\nIl sangue invoca ed esige sempre e solo sangue.\n\n\nSe ammazzi\, sei un assassino.\n\n\n“Dio è morto” diceva un grande filosofo.\n\n\nAd ucciderlo è l’Uomo\, ogni giorno\, ogni istante.\n\n\n\nMai gli Animali Non Umani. \n– Il Nostro Canto Libero – \n\nShare on:
URL:https://associazionevegananimalista.it/event/vegan-perche-mille-domande-mille-risposte-di-franco-libero-manco/
LOCATION:AVA Associazione Vegan Animalista\, Piazza Asti 5/A\, Roma\, 00182\, Italia
CATEGORIES:Conferenze AVA 2019,Eventi AVA 2019
END:VEVENT
END:VCALENDAR