BEGIN:VCALENDAR
VERSION:2.0
PRODID:-//AVA - ECPv6.15.20//NONSGML v1.0//EN
CALSCALE:GREGORIAN
METHOD:PUBLISH
X-WR-CALNAME:AVA
X-ORIGINAL-URL:https://associazionevegananimalista.it
X-WR-CALDESC:Eventi per AVA
REFRESH-INTERVAL;VALUE=DURATION:PT1H
X-Robots-Tag:noindex
X-PUBLISHED-TTL:PT1H
BEGIN:VTIMEZONE
TZID:Europe/Rome
BEGIN:DAYLIGHT
TZOFFSETFROM:+0100
TZOFFSETTO:+0200
TZNAME:CEST
DTSTART:20190331T010000
END:DAYLIGHT
BEGIN:STANDARD
TZOFFSETFROM:+0200
TZOFFSETTO:+0100
TZNAME:CET
DTSTART:20191027T010000
END:STANDARD
BEGIN:DAYLIGHT
TZOFFSETFROM:+0100
TZOFFSETTO:+0200
TZNAME:CEST
DTSTART:20200329T010000
END:DAYLIGHT
BEGIN:STANDARD
TZOFFSETFROM:+0200
TZOFFSETTO:+0100
TZNAME:CET
DTSTART:20201025T010000
END:STANDARD
BEGIN:DAYLIGHT
TZOFFSETFROM:+0100
TZOFFSETTO:+0200
TZNAME:CEST
DTSTART:20210328T010000
END:DAYLIGHT
BEGIN:STANDARD
TZOFFSETFROM:+0200
TZOFFSETTO:+0100
TZNAME:CET
DTSTART:20211031T010000
END:STANDARD
END:VTIMEZONE
BEGIN:VEVENT
DTSTART;TZID=Europe/Rome:20200126T180000
DTEND;TZID=Europe/Rome:20200126T200000
DTSTAMP:20260425T060248
CREATED:20200122T175349Z
LAST-MODIFIED:20200122T180619Z
UID:4343-1580061600-1580068800@associazionevegananimalista.it
SUMMARY:LE IMPRONTE DEGLI DEI
DESCRIPTION:Dal film\, “2012” di Roland Emmerich\, liberamente tratto dal libro “Impronte degli dei” di Graham Hancock\, forse la più impegnativa e visionaria  produzione americana del genere cosiddetto catastrofico. \nLE IMPRONTE DEGLI DEI\nDOMENICA PROSSIMA 26 GENNAIO ALLE ORE 18\,00 \nPROIEZIONE FILMATO IN SEDE AVA  PIAZZA ASTI 5/A ROMA \n“LE IMPRONTE DEGLI DEI” \nIl mistero mai svelato delle grandi opere presenti sul pianeta \nE ALTRI BELLISSIMI CORTOMETRAGGI \n——————– \nSegue dibattito sui temi esposti. \nAlle ore 20\,00 cena vegan con spaghettata al sugo di pomodoro e basilico\, \ninsalatona mista di stagione\, dolcetto vegan\, vino\, olive\, pane\, acqua. \nIl contributo per chi resta per la cena è di 8 euro. \nE’ necessaria la prenotazione a Luana\, tel. 339 1496256. \n  \n \nChe cosa lega un mappamondo del 1513\, le opere dei Maya\, degli Atzechi\, degli Incas e le monumentali costruzioni egiziani? Hancock rivela un messaggio universale celato nelle grandi opere e riportato nei miti e nelle leggende di tutte le popolazioni…e una premonizione!\nGraham Hancock\, l’autore di Impronte degli dei e giornalista appassionato di antichi misteri\, si avventura\, insieme alla fotografa e compagna Santha\, in un viaggio attraverso i grandi siti archeologici del passato. \nPartendo da Nazca fino ad arrivare in Egitto\, passando da Perù\, Bolivia e Messico\, va alla ricerca di una connessione\, un legame\, tra mappe\, miti e opere architettoniche\, lasciateci da popolazioni geograficamente lontane le une dalle altre e con una preparazione culturale\, tecnologica e ingegneristica apparentemente non così avanzata da poter realizzare tali opere.\nIl viaggio prende spunto dall’analisi del misterioso mappamondo di Piri Reis\, disegnato nel 1513\, in cui è riportata l’esatta linea costiera antartica che noi conosciamo grazie all’utilizzo di potenti mezzi tecnologici\, ma che è nascosta all’occhio umano dalla calotta glaciale (che risale circa a 40.000 anni fa). La mappa è sicuramente autentica e\, altrettanto sicuramente\, nel 1513 non avevano i mezzi per rilevare tale formazione al di sotto dello spesso strato di ghiaccio. La spiegazione più plausibile su come Piri Reis abbia potuto disegnare la sua mappa è che sia venuto a conoscenza di dati tramandati nei secoli; ma tramandati da chi? Questa misteriosa popolazione deve aver visto le coste prima della glaciazione e quindi essere esistita prima della classica preistoria. E ha qualcosa a che vedere con i misteri che circondano le grandi opere maya\, inca\, atzeche e egiziane? \nPer rispondere a queste domande\, Graham Hancock parte per un lungo viaggio che lo porterà ad analizzare in maniera molto tecnica e scientifica i principali siti archeologici delle prime civiltà a noi note. Il suo viaggio è un continuo susseguirsi di domande e nuove scoperte; un’incalzante ricerca di risposte e analogie tra le opere architettoniche e i miti tramandati da popoli e civiltà così lontani tra loro. Chi\, e perché\, ha costruito quelle opere monumentali? È possibile che ci sia un legame tra tali opere? Sono solo costruzioni fini a se stesse o nascondo un messaggio? \nAttraverso le sue osservazioni e i suoi approfondimenti\, Hancock scopre caratteristiche comuni agli antichi popoli\, non solo nei miti che ci hanno tramandato ma anche nelle conoscenze scientifiche e astronomiche. \nGraham trova un filo logico tra i miti raccontati dalle prime civiltà\, le conoscenze astronomiche (che dovevano essere molto avanzate) e le grandi opere realizzate da una civiltà misteriosa (a questo punto appare chiara la presenza di una civiltà ignota\, data la mancanza di prove evidenti che possano attribuire competenze tali alla realizzazione di opere così complesse alle popolazioni da noi conosciute).\nIl giornalista mette poi in discussione anche la datazione attribuita ai principali siti archeologici: potrebbero essere più antichi di ciò che pensiamo e risalire a prima della glaciazione e\, forse\, celare una premonizione che solo un elevato grado di conoscenza scientifco-astronomica potrebbe mettere in luce. \nApprofondimento: \nIn generale Impronte degli dei mi ha appassionato e incuriosito\, le spiegazioni a certi misteri sono ragionevoli e senza dubbio esistono diverse somiglianze fra le varie leggende che narrano di misteriosi uomini arrivati presso gli antichi popoli per portare conoscenza e sapere. \nDevo dire però che le parti puramente tecniche le ho trovate un po’ ostiche e poco scorrevoli; mentre per gran parte della narrazione la lettura è fluida\, scorrevole e avvincente\, spesso\, quando Graham Hancock si sofferma sugli aspetti puramente scientifici\, diventa un po’ pesante e si avvicina molto ad un trattato scientifico più che a un vero e proprio romanzo. \nNel complesso comunque la lettura di Impronte degli dei è piacevole e lo consiglierei soprattutto a chi ama gli antichi misteri ed è interessato alle antiche catastrofi (glaciazioni\, diluvio\, fine del mondo) e alle profezie. \nInfine\, per gli amanti del cinema\, volevo segnalare che il film “2012” di Roland Emmerich è stato in parte ispirato da questo romanzo.\nLicia L. \nShare on:
URL:https://associazionevegananimalista.it/event/le-impronte-degli-dei/
CATEGORIES:Conferenze AVA 2020,Eventi AVA 2020
ATTACH;FMTTYPE=image/jpeg:https://associazionevegananimalista.it/wp-content/uploads/2020/01/aimpronte.jpg
END:VEVENT
END:VCALENDAR