BEGIN:VCALENDAR
VERSION:2.0
PRODID:-//AVA - ECPv6.15.20//NONSGML v1.0//EN
CALSCALE:GREGORIAN
METHOD:PUBLISH
X-WR-CALNAME:AVA
X-ORIGINAL-URL:https://associazionevegananimalista.it
X-WR-CALDESC:Eventi per AVA
REFRESH-INTERVAL;VALUE=DURATION:PT1H
X-Robots-Tag:noindex
X-PUBLISHED-TTL:PT1H
BEGIN:VTIMEZONE
TZID:Europe/Rome
BEGIN:DAYLIGHT
TZOFFSETFROM:+0100
TZOFFSETTO:+0200
TZNAME:CEST
DTSTART:20190331T010000
END:DAYLIGHT
BEGIN:STANDARD
TZOFFSETFROM:+0200
TZOFFSETTO:+0100
TZNAME:CET
DTSTART:20191027T010000
END:STANDARD
BEGIN:DAYLIGHT
TZOFFSETFROM:+0100
TZOFFSETTO:+0200
TZNAME:CEST
DTSTART:20200329T010000
END:DAYLIGHT
BEGIN:STANDARD
TZOFFSETFROM:+0200
TZOFFSETTO:+0100
TZNAME:CET
DTSTART:20201025T010000
END:STANDARD
BEGIN:DAYLIGHT
TZOFFSETFROM:+0100
TZOFFSETTO:+0200
TZNAME:CEST
DTSTART:20210328T010000
END:DAYLIGHT
BEGIN:STANDARD
TZOFFSETFROM:+0200
TZOFFSETTO:+0100
TZNAME:CET
DTSTART:20211031T010000
END:STANDARD
END:VTIMEZONE
BEGIN:VEVENT
DTSTART;TZID=Europe/Rome:20200227T180000
DTEND;TZID=Europe/Rome:20200227T210000
DTSTAMP:20260425T031237
CREATED:20200226T192013Z
LAST-MODIFIED:20200226T192013Z
UID:4444-1582826400-1582837200@associazionevegananimalista.it
SUMMARY:Medicina Spirituale: Come Agisce e Perché è Efficace
DESCRIPTION:Medicina Spirituale: Come Agisce e Perché è Efficace\nConferenza del dottor Luca Del Nevo\, Epistemologo \, Fisioterapista\, Kinesiologo\, Naturopata\, Counselor\, Terapia Emozionale e del Biofielding \nSe stai pensando a preti\, religioni o preghiere allora NON hai idea di cosa sia la Medicina Spirituale (MS). \nLa MS è una reale forma di cura basata sulla realtà fisica di questo universo (in particolare\, il concetto quantistico di ONENESS la profonda unità interattiva tra ogni elemento).\nPoiché ogni medicina poggia su una forma di comprensione del suo oggetto\, ecco che abbiamo TRE Forme Mediche:\n– Uomo ORGANISMO = Medicina Allopatica\n– Uomo MENTE = Psicologia/terapia\n– Uomo SPIRITO = Medicina Spirituale (o Vibrazionale) \nMa cosa intendere per SPIRITO? \nLa chiave della riposta risiede nell’identità tra Universo ed Uomo! \nPer mezzo di tale Identità Essenziale possiamo comprendere NON SOLO la dipendenza degli stati mentali ed organici da quelli spirituali. \nPossiamo SOPRATUTTO raggiungere un appropriata comprensione del senso del nostro esserci\, la direzione evolutiva della esistenza e in base a ciò adottate una sana IGIENE SPIRITUALE come potente sistema di salvaguardia della salute e sano sviluppo personale.\nA tali fini\, il Relatore ripercorrerà con stile narrativo il Viaggio che l’Essere Cosmico ha compiuto a partire dai primordi\, per manifestarsi in ultimo come Essere Umano. \nAl termine della Conferenza i partecipanti potranno godere di una sana cena vegana al costo di 10€ (solo prenotando!) \nShare on:
URL:https://associazionevegananimalista.it/event/medicina-spirituale-come-agisce-e-perche-e-efficace/
CATEGORIES:Conferenze AVA 2020,Eventi AVA 2020
ATTACH;FMTTYPE=image/jpeg:https://associazionevegananimalista.it/wp-content/uploads/2020/02/aaaabiof.jpg
END:VEVENT
END:VCALENDAR