BEGIN:VCALENDAR
VERSION:2.0
PRODID:-//AVA - ECPv6.15.20//NONSGML v1.0//EN
CALSCALE:GREGORIAN
METHOD:PUBLISH
X-ORIGINAL-URL:https://associazionevegananimalista.it
X-WR-CALDESC:Eventi per AVA
REFRESH-INTERVAL;VALUE=DURATION:PT1H
X-Robots-Tag:noindex
X-PUBLISHED-TTL:PT1H
BEGIN:VTIMEZONE
TZID:Europe/Rome
BEGIN:DAYLIGHT
TZOFFSETFROM:+0100
TZOFFSETTO:+0200
TZNAME:CEST
DTSTART:20190331T010000
END:DAYLIGHT
BEGIN:STANDARD
TZOFFSETFROM:+0200
TZOFFSETTO:+0100
TZNAME:CET
DTSTART:20191027T010000
END:STANDARD
BEGIN:DAYLIGHT
TZOFFSETFROM:+0100
TZOFFSETTO:+0200
TZNAME:CEST
DTSTART:20200329T010000
END:DAYLIGHT
BEGIN:STANDARD
TZOFFSETFROM:+0200
TZOFFSETTO:+0100
TZNAME:CET
DTSTART:20201025T010000
END:STANDARD
BEGIN:DAYLIGHT
TZOFFSETFROM:+0100
TZOFFSETTO:+0200
TZNAME:CEST
DTSTART:20210328T010000
END:DAYLIGHT
BEGIN:STANDARD
TZOFFSETFROM:+0200
TZOFFSETTO:+0100
TZNAME:CET
DTSTART:20211031T010000
END:STANDARD
END:VTIMEZONE
BEGIN:VEVENT
DTSTART;TZID=Europe/Rome:20201015T180000
DTEND;TZID=Europe/Rome:20201015T200000
DTSTAMP:20260424T163233
CREATED:20201013T143029Z
LAST-MODIFIED:20201013T143030Z
UID:5437-1602784800-1602792000@associazionevegananimalista.it
SUMMARY:LA TEOSOFIA ED IL PENSIERO DEI GRANDI MAESTRI
DESCRIPTION:“Tutto ciò che è\, sotto qualsiasi modalità si trovi\, avendo il suo principio nell’Intelletto divino\, traduce o rappresenta questo principio secondo la sua maniera e secondo il suo ordine di esistenza; e\, così\, da un ordine all’altro\, tutte le Vite si concatenano e si corrispondono per concorrere all’Armonia universale e totale\, che è come riflesso dell’Unità divina stessa” (René Guénon) \nCi rendiamo conto che una petizione rivolta alle televisioni non verrà mai presa in considerazione\, ci sono enormi interessi degli inserzionisti da tutelare\, ma magari soprattutto in questo nefasto periodo forse un pò di solletico se siamo in tanti a firmare glielo possiamo procurare\, invito tutti a condividere e firmare la petizione grazie! \n \nPETIZIONE contro la pubblicità della carne in televisione \nLeggi condividi e diffondi: PROGETTO PACE NEL MONDO – EDUCARE L’UMANITA’ ALLA PACE di Franco Libero Manco \nVisita il nostro sito Associazione Vegan Animalista \nMetti “Mi piace” sulla pagina Facebook del presidente Franco Libero Manco \nMetti “Mi piace” sulla nostra pagina Facebook AVA Associazione Vegan Animalista \nVieni a trovarci presso la nostra sede di Roma in Piazza Asti\, 5/A  \nVisiona iscriviti e condividi le nostre videoconferenze dal nostro canale Youtube \n Iscriviti ai nostri gruppi su Facebook: \nAVA Associazione Vegan Animalista \nSupporta Agripunk e tutti i Rifugi di Animali Liberi \nLA TEOSOFIA ED IL PENSIERO DEI GRANDI MAESTRI\nConferenza del 15 ottobre ore 18\,00\nDottor Alfredo Stirati\, Laurea in Lettere Antiche e Moderne\, Prof. Em. Istituti Statali Superiori\, Membro Società Teosofica Italiana e Loggia Unita dei Teosofi\, Scrittore e Soggettista. \nLE MASSIME PIU’ BELLE\nGuardo sbocciare un fiore ed amo di più la vita. \nIl solo modo per rendere felice un uomo è quello di renderlo migliore.\nNessuno può farci sentire inferiori senza il nostro consenso. \nE’ quando ti esaltano che sei realmente in pericolo. \nSia maledetta la scienza che non si trasforma in amore.\nLa parola “verità” ha perso di significato da quando la menzogna è diventata utile. \nSe si andasse in fondo alle cose si avrebbe pietà perfino delle stelle. \nNon credo in quello che dici ma lotterò fino alla morte per il tuo diritto a dirlo. \nSe desideri molto una cosa lasciala andare. se ritorna sarà tua per sempre\, \nse non ritorna non è mai stata tua. \nNon cogliere un fiore\, potresti turbare le stelle. \nLa guerra si farà finché ci sarà gente disposta ad uccidere. \nLa dolcezza è un tratto divino: nulla è più forte della dolcezza \ne nulla è tanto dolce quanto la vera forza. \nNon vi è piano cui non segua un declivio\, non vi è andata cui non segua un ritorno. \nL’amore è la follia dei saggi e la saggezza dei folli.\nVi sono pulcini che quando diventano galli \ncredono che il sole si levi per sentirli cantare. \nIl carattere dell’uomo è il suo destino. \nQuando non sei d’accordo con me mi arricchisci. \n—————————– \nL’UNIVERSO \nUn punto nel vuoto perso nella notte della memoria e poi… Il furore degli elementi. L’alba dell’Universo. Le radici del male. Il seme della discordia. Il buio del peccato. Il sogno della libertà. La febbre del denaro. La follia della guerra. La paura della morte. Il solco del dolore. L’amarezza del pianto. I morsi della fame. La maschera dell’ipocrisia. L’angoscia del silenzio. Il peso della solitudine. Il dubbio della mente. La maturità della coscienza. L’evoluzione dell’anima. La luce della speranza. Il profumo della virtù. Il calore dell’amicizia. La gioia dell’intesa. L’impeto della passione. La dolcezza dell’amore. Il sorriso della vita. Il fascino dell’ignoto. L’immensità del Cosmo. Il mistero di Dio. \n———————————— \n “Il vero esame morale dell’umanità\, l’esame fondamentale\, è il suo rapporto con coloro che sono alla sua mercé: gli animali. E’ qui sta il fondamentale fallimento dell’uomo\, tanto fondamentale che da esso derivano tutti gli altri”. (Milan Kundera\, scrittore\, saggista\, poeta e drammaturgo ceco naturalizzato francese). \n \n#ilsensodellavita\n#siamotuttianimali\n#filosofia\n“Bühler ha detto qualcosa che è di decisiva importanza per la linguistica\, per la musicologia\, per l’estetica. Ha richiamato l’attenzione sul fatto che tutti gli animali\, io pure\, si esprimono” (Karl Popper) \nDunque\, tutti gli animali (da notare come l’essere umano venga posto al medesimo livello delle altre specie) comunicano. Esprimere – la cui origine etimologica proviene dal latino “exprimĕre” (“premere fuori”) – designa la capacità di “rendere manifesti i propri pensieri e/o sentimenti”. In breve\, la capacità di esternare se stessi.\nNon solo questo presuppone consapevolezza di sé\, ma\, altresì\, comporta creatività\, ingegno\, linguaggio\, sensibilità\, ecc.: caratteristiche attinenti alla facoltà intellettiva. \nLa questione animale meriterebbe di essere finalmente affrontata da angolature nuove. Devono essere accantonate quelle riflessioni che muovono\, seppur inconsciamente e con genuinità\, sempre e comunque da quella visione antropocentrica (specista) che tanto aborrono e che deve essere\, invece\, assolutamente scardinata una volta per tutte. \n\nGuardare con altri occhi significa “pensare” in modo diverso\, nuovo. Con empatia (ἐν-πάθεια). Da e come Animali (Non Umani).\n– Il Nostro Canto Libero- \nShare on:
URL:https://associazionevegananimalista.it/event/la-teosofia-ed-il-pensiero-dei-grandi-maestri/
CATEGORIES:Eventi AVA 2020
ATTACH;FMTTYPE=image/jpeg:https://associazionevegananimalista.it/wp-content/uploads/2020/10/aaaaaalupican.jpg
END:VEVENT
END:VCALENDAR