BEGIN:VCALENDAR
VERSION:2.0
PRODID:-//AVA - ECPv6.15.20//NONSGML v1.0//EN
CALSCALE:GREGORIAN
METHOD:PUBLISH
X-ORIGINAL-URL:https://associazionevegananimalista.it
X-WR-CALDESC:Eventi per AVA
REFRESH-INTERVAL;VALUE=DURATION:PT1H
X-Robots-Tag:noindex
X-PUBLISHED-TTL:PT1H
BEGIN:VTIMEZONE
TZID:Europe/Rome
BEGIN:DAYLIGHT
TZOFFSETFROM:+0100
TZOFFSETTO:+0200
TZNAME:CEST
DTSTART:20200329T010000
END:DAYLIGHT
BEGIN:STANDARD
TZOFFSETFROM:+0200
TZOFFSETTO:+0100
TZNAME:CET
DTSTART:20201025T010000
END:STANDARD
BEGIN:DAYLIGHT
TZOFFSETFROM:+0100
TZOFFSETTO:+0200
TZNAME:CEST
DTSTART:20210328T010000
END:DAYLIGHT
BEGIN:STANDARD
TZOFFSETFROM:+0200
TZOFFSETTO:+0100
TZNAME:CET
DTSTART:20211031T010000
END:STANDARD
BEGIN:DAYLIGHT
TZOFFSETFROM:+0100
TZOFFSETTO:+0200
TZNAME:CEST
DTSTART:20220327T010000
END:DAYLIGHT
BEGIN:STANDARD
TZOFFSETFROM:+0200
TZOFFSETTO:+0100
TZNAME:CET
DTSTART:20221030T010000
END:STANDARD
END:VTIMEZONE
BEGIN:VEVENT
DTSTART;TZID=Europe/Rome:20211021T180000
DTEND;TZID=Europe/Rome:20211021T200000
DTSTAMP:20260423T212439
CREATED:20211019T211706Z
LAST-MODIFIED:20211019T211706Z
UID:6265-1634839200-1634846400@associazionevegananimalista.it
SUMMARY:CREAZIONISMO ED EVOLUZIONISMO: DUE REALTÀ A CONFRONTO
DESCRIPTION:“Mi capirai quando ti farà male l’anima come a me” (Frida Kahlo) \nLeggi condividi e diffondi: PROGETTO PACE NEL MONDO – EDUCARE L’UMANITA’ ALLA PACE di Franco Libero Manco \nVisita il nostro sito Associazione Vegan Animalista \nMetti “Mi piace” sulla pagina Facebook del presidente Franco Libero Manco \nMetti “Mi piace” sulla nostra pagina Facebook AVA Associazione Vegan Animalista \nIscriviti alla nostra Newsletter \nVisiona iscriviti e condividi le nostre videoconferenze dal nostro canale Youtube \n Iscriviti ai nostri gruppi su Facebook: \nAVA Associazione Vegan Animalista \nSupporta Ippoasi e tutti i Rifugi di Animali Liberi \nI GIOVEDI’ CULTURALI DELL’AVA\nAssociazione Vegan Animalista APS \nLe conferenze si tengono in piazza Asti 5/a Roma \n(Metro Re di Roma\, uscita Vercelli\, trenino staz.ne Tuscolana o bus 85-81-16) \n“CREAZIONISMO ED EVOLUZIONISMO: DUE REALTÀ A CONFRONTO”\nconferenza del Prof. Antonello Senni\, Scienze Biologiche e Nutrizione Umana\, Ecologo\, \nEvoluzionista\, Antropologo\, Genomica Nutrizionale\, Paleodieta\, \ngià Dirig. Gen. Ministero Ambiente e Dipart. Protez. Civile\, \nDocente di Educazione Alimentare e Cucina Dietetica\, \nGiovedì 21 ottobre ore 18\,00\, piazza Asti 5/a Roma \nLA CONFERENZA SI SVOLGERA’ SECONDO LE PRESCRISIONI ANTI-COVID \nASSOCIAZIONE VEGAN ANIMALISTA APS \n———————————– \nVEGAN\, LA SOLA FILOSOFIA DI VITA IN GRADO DI ASSICURARE LA SOPRAVVIVENZA DELL’UOMO SULLA TERRA\ndi Franco Libero Manco \nCHE IL TUTTO SIA FRUTTO DEL CASO C’È LA STESSA POSSIBILITÀ CHE DOPO UNA DEFLAGRAZIONE LE COMPONENTI SI ASSEMBLINO CASUALMENTE A FORMARE  UN COMPUTER  \n–        IL TUO FUTURO\, E QUELLO DELL’INTERO PIANETA\, NON DIPENDE TANTO DA PROBABILI GUERRE NUCLEARI O DA QUALUNQUE CATACLISMA NATURALE MA DA QUELLO CHE OGGI PORTERAI A TAVOLA \n–        VEGAN\, LA SOLA FILOSOFIA DI VITA IN GRADO DI ASSICURARE LA SOPRAVVIVENZA DELL’UOMO SULLA TERRA \n–        NOI VEGANI-UNIVERSALISTI ABBIAMO LA FORMULA PER RENDERE MIGLIORE QUESTO MONDO \n–        UN GIORNO LE FUTURE GENERAZIONI GUARDERANNO CON ORRORE A NOI CHE PER MILLENNI ABBIAMO UCCISO E MANGIATO I NOSTRI FRATELLI ANIMALI CON LO STESSO ORRORE CON CUI NOI OGGI GUARDEREMMO AD UNA RAZZA UMANA CHE ALLEVASSE E MANGIASSE I SUOI SIMILI.\n–         CHI HA MOSTRATO AL RAGNO L’ARTE DI TIRAR\, SENZA REGOLA\, PARALLELE COSÌ ESATTE? CHI RIUNISCE IL POPOLO DEGLI UCCELLI? CHI PRESIEDE AL CONSIGLIO DOVE SI DETERMINA IL GIORNO E L’ORA DELLA PARTENZA? CHI FORMA LA FALANGE? CHI GLI MOSTRA IL CAMMINO? \n \nEcchevvedevodi’….so’..GATTI… \nCarletto Blu\nShare on:
URL:https://associazionevegananimalista.it/event/creazionismo-ed-evoluzionismo-due-realta-a-confronto/
CATEGORIES:Eventi AVA 2021
ATTACH;FMTTYPE=image/jpeg:https://associazionevegananimalista.it/wp-content/uploads/2021/07/aaaaaapelib.jpg
END:VEVENT
END:VCALENDAR