BEGIN:VCALENDAR
VERSION:2.0
PRODID:-//AVA - ECPv6.15.20//NONSGML v1.0//EN
CALSCALE:GREGORIAN
METHOD:PUBLISH
X-WR-CALNAME:AVA
X-ORIGINAL-URL:https://associazionevegananimalista.it
X-WR-CALDESC:Eventi per AVA
REFRESH-INTERVAL;VALUE=DURATION:PT1H
X-Robots-Tag:noindex
X-PUBLISHED-TTL:PT1H
BEGIN:VTIMEZONE
TZID:Europe/Rome
BEGIN:DAYLIGHT
TZOFFSETFROM:+0100
TZOFFSETTO:+0200
TZNAME:CEST
DTSTART:20240331T010000
END:DAYLIGHT
BEGIN:STANDARD
TZOFFSETFROM:+0200
TZOFFSETTO:+0100
TZNAME:CET
DTSTART:20241027T010000
END:STANDARD
BEGIN:DAYLIGHT
TZOFFSETFROM:+0100
TZOFFSETTO:+0200
TZNAME:CEST
DTSTART:20250330T010000
END:DAYLIGHT
BEGIN:STANDARD
TZOFFSETFROM:+0200
TZOFFSETTO:+0100
TZNAME:CET
DTSTART:20251026T010000
END:STANDARD
BEGIN:DAYLIGHT
TZOFFSETFROM:+0100
TZOFFSETTO:+0200
TZNAME:CEST
DTSTART:20260329T010000
END:DAYLIGHT
BEGIN:STANDARD
TZOFFSETFROM:+0200
TZOFFSETTO:+0100
TZNAME:CET
DTSTART:20261025T010000
END:STANDARD
END:VTIMEZONE
BEGIN:VEVENT
DTSTART;TZID=Europe/Rome:20250330T080000
DTEND;TZID=Europe/Rome:20250330T233000
DTSTAMP:20260420T033619
CREATED:20200904T103505Z
LAST-MODIFIED:20250221T144728Z
UID:5308-1743321600-1743377400@associazionevegananimalista.it
SUMMARY:Mi disturba la morte\, è vero. Credo che sia un errore del Padreterno. Io non mi ritengo per niente indispensabile\, ma immaginate un mondo senza di me... che farete da soli? (Vittorio Gassman)
DESCRIPTION:Mi disturba la morte\, è vero. Credo che sia un errore del Padreterno. Io non mi ritengo per niente indispensabile\, ma immaginate un mondo senza di me… che farete da soli?\n\n\n(Vittorio Gassman)\nLeggi condividi e diffondi: PROGETTO PACE NEL MONDO – EDUCARE L’UMANITA’ ALLA PACE di Franco Libero Manco \nVisita il nostro sito Associazione Vegan Animalista \nMetti “Mi piace” sulla pagina Facebook del presidente Franco Libero Manco \nMetti “Mi piace” sulla nostra pagina Facebook AVA Associazione Vegan Animalista \nVieni a trovarci presso la nostra sede di Roma in Piazza Asti\, 5/A  \nVisiona iscriviti e condividi le nostre videoconferenze dal nostro canale Youtube \n Iscriviti ai nostri gruppi su Facebook: \nAVA Associazione Vegan Animalista \nSupporta Agripunk e tutti i Rifugi di Animali \n\n\n\n\n\nShare on:
URL:https://associazionevegananimalista.it/event/mi-disturba-la-morte-e-vero-credo-che-sia-un-errore-del-padreterno-io-non-mi-ritengo-per-niente-indispensabile-ma-immaginate-un-mondo-senza-di-me-che-farete-da-soli-vittorio-gassman/
CATEGORIES:Citazioni
ATTACH;FMTTYPE=image/jpeg:https://associazionevegananimalista.it/wp-content/uploads/2020/09/aaaaaaaelef666.jpg
END:VEVENT
END:VCALENDAR